BEGIN:VCALENDAR
PRODID:-//Microsoft Corporation//Outlook MIMEDIR//EN
VERSION:2.0
METHOD:PUBLISH
BEGIN:VEVENT
DTSTART:20260423T103000
DTEND:20260423T113000
DESCRIPTION:
LOCATION:City Hall 414 E 12th St KCMO 3rd Floor Finance Conference Room
SUMMARY:Multi-Modal Transportation Commission
CATEGORIES:MEETING
END:VEVENT
END:VCALENDAR
