BEGIN:VCALENDAR
PRODID:-//Microsoft Corporation//Outlook MIMEDIR//EN
VERSION:2.0
METHOD:PUBLISH
BEGIN:VEVENT
DTSTART:20260422T170000
DTEND:20260422T180000
DESCRIPTION:It will be more of a social hour than a formal meeting.
LOCATION:The Dub  - 105 W 9th St, Kansas City, MO 64105
SUMMARY:Equity Task Force
CATEGORIES:MEETING
END:VEVENT
END:VCALENDAR
