BEGIN:VCALENDAR
PRODID:-//Microsoft Corporation//Outlook MIMEDIR//EN
VERSION:2.0
METHOD:PUBLISH
BEGIN:VEVENT
DTSTART:20260421T173000
DTEND:20260421T183000
DESCRIPTION:Joint KC Future Commission Meeting
LOCATION:2400 Troost Ave 3rd Floor
SUMMARY:KC Youth Commission
CATEGORIES:MEETING
END:VEVENT
END:VCALENDAR
