BEGIN:VCALENDAR
PRODID:-//Microsoft Corporation//Outlook MIMEDIR//EN
VERSION:2.0
METHOD:PUBLISH
BEGIN:VEVENT
DTSTART:20260422T120000
DTEND:20260422T130000
DESCRIPTION:City Hall- 414 East 12th Street 4th Floor – Suite 404, Kansas City, MO 64106  Teams: Meeting ID: 298 706 068 489 6 Passcode: 7Bk2Xf9b Dial in by phone +1 872-212-5076,,746087658# United States, Chicago
LOCATION:Hybrid
SUMMARY:Human Rights Commission
CATEGORIES:MEETING
END:VEVENT
END:VCALENDAR
