BEGIN:VCALENDAR
PRODID:-//Microsoft Corporation//Outlook MIMEDIR//EN
VERSION:2.0
METHOD:PUBLISH
BEGIN:VEVENT
DTSTART:20260427T100000
DTEND:20260427T110000
DESCRIPTION:Kansas City, Health Department Watson (Multipurpose Room) Microsoft Teams Meeting ID: 254 630 822 338 45 Passcode: fA9SE3Pt Dial in by phone +1 872-212-5076,,274104569# United States, Chicago
LOCATION:Hybrid
SUMMARY:Health Commission
CATEGORIES:MEETING
END:VEVENT
END:VCALENDAR
