BEGIN:VCALENDAR
PRODID:-//Microsoft Corporation//Outlook MIMEDIR//EN
VERSION:2.0
METHOD:PUBLISH
BEGIN:VEVENT
DTSTART:20260424T143000
DTEND:20260424T153000
DESCRIPTION:
LOCATION:1100 Walnut Street; Suite 3450A Kansas City, MO 64106
SUMMARY:VisitKC
CATEGORIES:MEETING
END:VEVENT
END:VCALENDAR
