BEGIN:VCALENDAR
PRODID:-//Microsoft Corporation//Outlook MIMEDIR//EN
VERSION:2.0
METHOD:PUBLISH
BEGIN:VEVENT
DTSTART:20260427T140000
DTEND:20260427T150000
DESCRIPTION:1st floor Conference Room of City Hall  Teams Meeting ID: 239 822 208 181 8 Passcode: Wr68nD78 Dial in by phone +1 872-212-5076,,75273464# United States, Chicago Find a local number Phone conference ID: 752 734 64# For organizers: Meeting options |
LOCATION:Hybrid
SUMMARY:Housing Trust Fund Board
CATEGORIES:MEETING
END:VEVENT
END:VCALENDAR
