BEGIN:VCALENDAR
PRODID:-//Microsoft Corporation//Outlook MIMEDIR//EN
VERSION:2.0
METHOD:PUBLISH
BEGIN:VEVENT
DTSTART:20260428T121500
DTEND:20260428T131500
DESCRIPTION:300 Wyandotte Suite 400 Join our Zoom Meeting: https://us06web.zoom.us/j/81345598809?pwd=EZoOYWweYp7Oye2nOyBHaKe05Dt41R.1 Meeting ID: 813 4559 8809 Passcode: 148426
LOCATION:Hybrid
SUMMARY:Central City Economic Development Sales Tax Board
CATEGORIES:MEETING
END:VEVENT
END:VCALENDAR
